BEGIN:VCALENDAR
VERSION:2.0
PRODID:-//hacksw/handcal//NONSGML v1.0//EN
CALSCALE:GREGORIAN
BEGIN:VEVENT
UID:69eced325622b
DTSTAMP:20260425T163458Z
DTSTART:20260426T190000Z
DTEND:20260426T190000Z
SUMMARY:BALET GALA
LOCATION:Národné divadlo Košice\, Hlavná 58\, 042 77 Košice
DESCRIPTION:Balet Gala je oslava pohybu\, kde sa tanec stáva jazykom duše\, hudba dychom okamihu a emócia mostom medzi javiskom a divákom. Tanečníci v krátkych\, no intenzívnych obrazoch odhaľujú nielen svoju techni...
END:VEVENT
END:VCALENDAR
