BEGIN:VCALENDAR
VERSION:2.0
PRODID:-//hacksw/handcal//NONSGML v1.0//EN
CALSCALE:GREGORIAN
BEGIN:VEVENT
UID:69ecc4920c7de
DTSTAMP:20260425T134138Z
DTSTART:20260425T190000Z
DTEND:20260425T190000Z
SUMMARY:GALAKONCERT OPERY NDKE
LOCATION:Národné divadlo Košice\, Hlavná 58\, 042 77 Košice
DESCRIPTION:Opera Národného divadla Košice vás srdečne pozýva na veľkolepý operný galakoncert sólistov Opery NDKE. Na spoločnom galakoncerte súboru uvedieme diela so zameraním na premiéry posledných operných sezó...
END:VEVENT
END:VCALENDAR
