BEGIN:VCALENDAR
VERSION:2.0
PRODID:-//hacksw/handcal//NONSGML v1.0//EN
CALSCALE:GREGORIAN
BEGIN:VEVENT
UID:69e4df3fa34b1
DTSTAMP:20260419T135719Z
DTSTART:20260514T000000Z
DTEND:20260514T000000Z
SUMMARY:Mladé srdcia
LOCATION:Arta\, Piešťany
DESCRIPTION:
				
					
						
							premiéra SR: 1.05.2025							Mladé srdcia
							Young Hearts							
							Belgicko\, Holandsko\, 2024\, far.\, 97 min							
							Monopol: do 16.09.2029Réžia: Anthony Schatte...
END:VEVENT
END:VCALENDAR
